BEGIN:VCALENDAR
VERSION:2.0
PRODID:-//jEvents 2.0 for Joomla//EN
CALSCALE:GREGORIAN
METHOD:PUBLISH
BEGIN:VTIMEZONE
TZID:Europe/Berlin
BEGIN:STANDARD
DTSTART:20251026T020000
RDATE:20260329T030000
TZOFFSETFROM:+0200
TZOFFSETTO:+0100
TZNAME:Europe/Berlin CET
END:STANDARD
BEGIN:STANDARD
DTSTART:20261025T020000
RDATE:20270328T030000
TZOFFSETFROM:+0200
TZOFFSETTO:+0100
TZNAME:Europe/Berlin CET
END:STANDARD
BEGIN:STANDARD
DTSTART:20271031T020000
RDATE:20280326T030000
TZOFFSETFROM:+0200
TZOFFSETTO:+0100
TZNAME:Europe/Berlin CET
END:STANDARD
BEGIN:STANDARD
DTSTART:20281029T020000
RDATE:20290325T030000
TZOFFSETFROM:+0200
TZOFFSETTO:+0100
TZNAME:Europe/Berlin CET
END:STANDARD
BEGIN:STANDARD
DTSTART:20291028T020000
RDATE:20300331T030000
TZOFFSETFROM:+0200
TZOFFSETTO:+0100
TZNAME:Europe/Berlin CET
END:STANDARD
BEGIN:STANDARD
DTSTART:20301027T020000
RDATE:20310330T030000
TZOFFSETFROM:+0200
TZOFFSETTO:+0100
TZNAME:Europe/Berlin CET
END:STANDARD
BEGIN:DAYLIGHT
DTSTART:20250427T183000
RDATE:20251026T020000
TZOFFSETFROM:+0100
TZOFFSETTO:+0200
TZNAME:Europe/Berlin CEST
END:DAYLIGHT
BEGIN:DAYLIGHT
DTSTART:20260329T030000
RDATE:20261025T020000
TZOFFSETFROM:+0100
TZOFFSETTO:+0200
TZNAME:Europe/Berlin CEST
END:DAYLIGHT
BEGIN:DAYLIGHT
DTSTART:20270328T030000
RDATE:20271031T020000
TZOFFSETFROM:+0100
TZOFFSETTO:+0200
TZNAME:Europe/Berlin CEST
END:DAYLIGHT
BEGIN:DAYLIGHT
DTSTART:20280326T030000
RDATE:20281029T020000
TZOFFSETFROM:+0100
TZOFFSETTO:+0200
TZNAME:Europe/Berlin CEST
END:DAYLIGHT
BEGIN:DAYLIGHT
DTSTART:20290325T030000
RDATE:20291028T020000
TZOFFSETFROM:+0100
TZOFFSETTO:+0200
TZNAME:Europe/Berlin CEST
END:DAYLIGHT
BEGIN:DAYLIGHT
DTSTART:20300331T030000
RDATE:20301027T020000
TZOFFSETFROM:+0100
TZOFFSETTO:+0200
TZNAME:Europe/Berlin CEST
END:DAYLIGHT
END:VTIMEZONE
BEGIN:VEVENT
UID:3d8bb5b10245f3f051c27257b77ba3b3
CATEGORIES:DEFAULT
CREATED:20260419T202045
SUMMARY:Schießen Dorfmeisterschaft
LOCATION:: Bürger&amp;Kulturtreff Oberpiebing (Dorfstraße 14)
DESCRIPTION:Eine Mannschaft besteht aus 4 Schützen. Ein Schütze darf nur bei einer Mann
 schaft schießen.\n Zu den Schießen hat die Mannschaft nach Möglichkeit voll
 ständig zu erscheinen.\nUm allen Teilnehmern gleiche Startchancen zu ermögl
 ichen, sind Schießhilfsmittel (Jacken, Handschuhe, etc.) und eigene mitgebr
 achte Gewehre nicht erlaubt.\nGewehre und Munition werden von den Hubertuss
 chützen gestellt.\nTeilnahme ab 16 Jahre (Vereinsmitglieder der Hubertussch
 ützen ab 12 Jahre)\nWertung: 15 Schuss je Schütze (bei Ringgleichheit entsc
 heidet der beste Teiler)\nStartgeld:            36 € je Mannschaft\n       
                    24 € je Jugendmannschaft (alle Schützen unter 18 Jahre)\
 nEs gelten die allgemeinen Schießbestimmungen laut Aushang am Schießstand. 
 Den Standaufsichten ist unbedingt Folge zu leisten.\nDie Preisverleihung fi
 ndet beim Grillfest der Hubertusschützen Oberpiebing statt.\n (04.07.2026 a
 b 17:00 Uhr im Bürger&amp;Kultur-Treffpunkt Oberpiebing)\nJeder Schütze erh
 ält einen Preis\n \nAnmeldung zur Dorfmeisterschaft bis spätestens 17.04.20
 26 bei\nRott Alexander\nTelefon: 09426 8524450\nMobil:   0174 3115562 Whats
 App\nMail: Diese E-Mail-Adresse ist vor Spambots geschützt! Zur Anzeige mus
 s JavaScript eingeschaltet sein!
				document.getElementById('cloak6ab738c9
 0b6585d2f165f327a61841fc').innerHTML = '';
				var prefix = '&#109;a' + 'i&
 #108;' + '&#116;o';
				var path = 'hr' + 'ef' + '=';
				var addy6ab738c90
 b6585d2f165f327a61841fc = '&#105;nf&#111;' + '&#64;';
				addy6ab738c90b658
 5d2f165f327a61841fc = addy6ab738c90b6585d2f165f327a61841fc + 'h&#117;b&#101
 ;rt&#117;ssch&#117;&#101;tz&#101;n-&#111;b&#101;rp&#105;&#101;b&#105;ng' + 
 '&#46;' + 'd&#101;';
				var addy_text6ab738c90b6585d2f165f327a61841fc = '&
 #105;nf&#111;' + '&#64;' + 'h&#117;b&#101;rt&#117;ssch&#117;&#101;tz&#101;n
 -&#111;b&#101;rp&#105;&#101;b&#105;ng' + '&#46;' + 'd&#101;';document.getEl
 ementById('cloak6ab738c90b6585d2f165f327a61841fc').innerHTML += '<a ' + pat
 h + '\'' + prefix + ':' + addy6ab738c90b6585d2f165f327a61841fc + '\'>'+addy
 _text6ab738c90b6585d2f165f327a61841fc+'';
		\n
X-ALT-DESC;FMTTYPE=text/html:<p>Eine Mannschaft besteht aus 4 Schützen. Ein Schütze darf nur bei einer M
 annschaft schießen.<br /> Zu den Schießen hat die Mannschaft nach Möglichke
 it vollständig zu erscheinen.</p><p>Um allen Teilnehmern gleiche Startchanc
 en zu ermöglichen, sind Schießhilfsmittel (Jacken, Handschuhe, etc.) und ei
 gene mitgebrachte Gewehre nicht erlaubt.</p><p>Gewehre und Munition werden 
 von den Hubertusschützen gestellt.</p><p>Teilnahme ab 16 Jahre (Vereinsmitg
 lieder der Hubertusschützen ab 12 Jahre)</p><p>Wertung: 15 Schuss je Schütz
 e (bei Ringgleichheit entscheidet der beste Teiler)</p><p>Startgeld:       
      36 € je Mannschaft<br />                          24 € je Jugendmannsc
 haft (alle Schützen unter 18 Jahre)</p><p>Es gelten die allgemeinen Schießb
 estimmungen laut Aushang am Schießstand. Den Standaufsichten ist unbedingt 
 Folge zu leisten.</p><p>Die Preisverleihung findet beim Grillfest der Huber
 tusschützen Oberpiebing statt.<br /> (04.07.2026 ab 17:00 Uhr im Bürger&amp
 ;Kultur-Treffpunkt Oberpiebing)</p><p>Jeder Schütze erhält einen Preis</p><
 p> </p><p>Anmeldung zur Dorfmeisterschaft bis spätestens 17.04.2026 bei</p>
 <p>Rott Alexander</p><p>Telefon: 09426 8524450<br />Mobil:   0174 3115562 W
 hatsApp<br />Mail: <span id="cloak6ab738c90b6585d2f165f327a61841fc">Diese E
 -Mail-Adresse ist vor Spambots geschützt! Zur Anzeige muss JavaScript einge
 schaltet sein!</span><script type='text/javascript'>
				document.getElemen
 tById('cloak6ab738c90b6585d2f165f327a61841fc').innerHTML = '';
				var pref
 ix = '&#109;a' + 'i&#108;' + '&#116;o';
				var path = 'hr' + 'ef' + '=';
	
 			var addy6ab738c90b6585d2f165f327a61841fc = '&#105;nf&#111;' + '&#64;';
	
 			addy6ab738c90b6585d2f165f327a61841fc = addy6ab738c90b6585d2f165f327a6184
 1fc + 'h&#117;b&#101;rt&#117;ssch&#117;&#101;tz&#101;n-&#111;b&#101;rp&#105
 ;&#101;b&#105;ng' + '&#46;' + 'd&#101;';
				var addy_text6ab738c90b6585d2f
 165f327a61841fc = '&#105;nf&#111;' + '&#64;' + 'h&#117;b&#101;rt&#117;ssch&
 #117;&#101;tz&#101;n-&#111;b&#101;rp&#105;&#101;b&#105;ng' + '&#46;' + 'd&#
 101;';document.getElementById('cloak6ab738c90b6585d2f165f327a61841fc').inne
 rHTML += '<a ' + path + '\'' + prefix + ':' + addy6ab738c90b6585d2f165f327a
 61841fc + '\'>'+addy_text6ab738c90b6585d2f165f327a61841fc+'<\/a>';
		</scri
 pt></p>
DTSTAMP:20260420T185042
DTSTART;TZID=Europe/Berlin:20260428T183000
DTEND;TZID=Europe/Berlin:20260428T210000
SEQUENCE:0
TRANSP:OPAQUE
END:VEVENT
END:VCALENDAR